BEGIN:VCALENDAR
VERSION:2.0
PRODID:-//wp-events-plugin.com//7.2.3.1//EN
TZID:America/Detroit
X-WR-TIMEZONE:America/Detroit
BEGIN:VEVENT
UID:990@tbeonline.org
DTSTART;TZID=America/New_York:20260426T110000
DTEND;TZID=America/New_York:20260426T110000
DTSTAMP:20260401T151109Z
URL:https://www.tbeonline.org/events/touch-a-truck-4/
SUMMARY:Touch-A-Truck
DESCRIPTION:REGISTER TODAY!\nGet ready for a wheelie good time and help us 
 celebrate Susie Weiner as we say farewell at our Annual Touch-a-Truck shin
 dig!\nJoin us&nbsp\;Sunday\, April 26&nbsp\;at 11:00 a.m.&nbsp\;for a truc
 kload of fun that’s open to the entire community!\nThis year\, we’re r
 evving things up with an incredible lineup. It’s a hands-on\, horn-honki
 ng\, joy-filled spring celebration for all ages!\nAnd guess what?&nbsp\;Yo
 ur ticket includes lunch\, drinks\, ice cream\, snacks\, and truck climbin
 g!&nbsp\;So roll on over with family and friends – let’s truck it up a
 nd make some unforgettable memories.\nThis is a wonderful opportunity to s
 upport our Early Childhood Center—and receive great recognition—with o
 ne of our sponsorship opportunities!\nAdmission/Ticket Price Per Family\n\
 n\n 	$36 for ECC Families and TBE members (1-4 people)\n 	$45 Pricing for 
 community guests (1-4 people)\n 	$10 for each additional person\n\nBecome 
 a sponsor for this event!\n\n\n 	Touch-a-Truck Event Sponsor - $5\,000 (Pr
 esenting Sponsorship)\n 	Mega Mover - $2500 (Kids Zone Sponsorship)\n 	Ste
 er and Gear - $1800 (Truck Sponsorship)\n 	Fuel Up - $750 (Food and Bevera
 ge Sponsorship)\n 	Roadside Rescuer - $250 (Supporting Sponsorship)\n\nDon
 ations are welcomed and appreciated to support our programs!
ATTACH;FMTTYPE=image/jpeg:https://www.tbeonline.org/wp-content/uploads/202
 6/04/Touch-A-Truck-graphic-w-QR-2026.jpg
CATEGORIES:Featured
END:VEVENT
BEGIN:VTIMEZONE
TZID:America/New_York
X-LIC-LOCATION:America/New_York
BEGIN:DAYLIGHT
DTSTART:20260308T030000
TZOFFSETFROM:-0500
TZOFFSETTO:-0400
TZNAME:EDT
END:DAYLIGHT
END:VTIMEZONE
END:VCALENDAR