BEGIN:VCALENDAR
VERSION:2.0
PRODID:-//wp-events-plugin.com//7.2.3.1//EN
TZID:America/Detroit
X-WR-TIMEZONE:America/Detroit
BEGIN:VEVENT
UID:981@tbeonline.org
DTSTART;TZID=America/New_York:20260502T181500
DTEND;TZID=America/New_York:20260502T181500
DTSTAMP:20260415T175648Z
URL:https://www.tbeonline.org/events/the-152nd-kentucky-derby/
SUMMARY:The 152nd Kentucky Derby
DESCRIPTION:A NIGHT AT THE RACES\nPresented by the Sisterhood &amp\; Brothe
 rhood of Temple Beth El\nWe’re celebrating 175 years of Temple Beth El i
 n style — with community spirit\, festive fun\, and a little racing-day 
 glamour.\nSaturday\, May 2\n\n6:15 PM-10:30 PM\n&nbsp\;\nThe gates are ope
 ning… and as we continue celebrating our 175th Anniversary\, we’re goi
 ng BIG! This is not just an event — it’s a full-throttle\, high-energy
 \, Derby-style celebration you will not want to miss!\n&nbsp\;\nOpen to ad
 ults of all ages — Temple Beth El members and the entire community are i
 nvited!\n&nbsp\;\nFeel the Thrill of the Kentucky Derby!\nWe’ll gather t
 o watch the LIVE 152nd Kentucky Derby — the most exciting two minutes in
  sports — and then the real fun begins!\n&nbsp\;\n6:15-7:00 PM\nCocktail
 s &amp\; Appetizers — mix\, mingle\, and show off those hats!\n&nbsp\;\n
 6:57 PM\nThe 152nd Kentucky Derby LIVE on the big screen!\n&nbsp\;\n7:00 P
 M\nA delicious catered dinner\n&nbsp\;\n7:30 – 10:00 PM\nLet the FUNrais
 ing begin! Entertaining Horse Racing Program with professional MC. Grab yo
 ur “race money\,” place your bets (play money!)\, cheer loudly\, and g
 et ready for friendly competition\, laughter\, and surprises!\n&nbsp\;\n9:
 00 PM\nIndulge in a classic Kentucky Derby dessert\n&nbsp\;\nLadies: The b
 igger the hat\, the better! Derby flair encouraged!\n&nbsp\;\nDress up. Sh
 ow up. Bet big. Celebrate bigger.\n&nbsp\;\nFor more information: Elaine S
 chonberger at m5591schon@comcast.net\n&nbsp\;\n\n$75 per person\n\nRSVP by
  April 28\nSponsorship opportunities: $250 to sponsor one of each of the t
 en horse races during the program.\nSponsors names will be printed on race
  page in booklet\, on a sponsorship signage and read aloud by the MC prior
  to each race.\n&nbsp\;\nCLICK HERE TO MAKE YOUR RESERVATIONS or BECOME A 
 SPONSOR
ATTACH;FMTTYPE=image/jpeg:https://www.tbeonline.org/wp-content/uploads/202
 6/03/Kentucky-Derby-2026-rev-scaled.jpg
CATEGORIES:Featured
END:VEVENT
BEGIN:VTIMEZONE
TZID:America/New_York
X-LIC-LOCATION:America/New_York
BEGIN:DAYLIGHT
DTSTART:20260308T030000
TZOFFSETFROM:-0500
TZOFFSETTO:-0400
TZNAME:EDT
END:DAYLIGHT
END:VTIMEZONE
END:VCALENDAR